BEGIN:VCALENDAR
VERSION:2.0
PRODID:-//Harvard Office for Sustainability - ECPv6.15.14//NONSGML v1.0//EN
CALSCALE:GREGORIAN
METHOD:PUBLISH
X-ORIGINAL-URL:https://sustainable.harvard.edu
X-WR-CALDESC:Events for Harvard Office for Sustainability
REFRESH-INTERVAL;VALUE=DURATION:PT1H
X-Robots-Tag:noindex
X-PUBLISHED-TTL:PT1H
BEGIN:VTIMEZONE
TZID:UTC
BEGIN:STANDARD
TZOFFSETFROM:+0000
TZOFFSETTO:+0000
TZNAME:UTC
DTSTART:20240101T000000
END:STANDARD
END:VTIMEZONE
BEGIN:VEVENT
DTSTART;TZID=UTC:20260415T120000
DTEND;TZID=UTC:20260415T150000
DTSTAMP:20260423T191525
CREATED:20260319T145608Z
LAST-MODIFIED:20260401T174655Z
UID:10003305-1776254400-1776265200@sustainable.harvard.edu
SUMMARY:Fixit Clinic
DESCRIPTION:Have you been holding onto a broken item in the hopes of repairing it? (Or perhaps found a nearly-working item at a Freecycle?) If so\, come to our Fixit Clinic at the Cabot Science Library! With help\, you’ll disassemble your item\, troubleshoot the issue\, and (hopefully) repair it! Register your broken item ahead of time here. \nDon’t have anything to fix but have some fixing expertise to share? Sign up to be a coach here! \nHosted by Harvard Libraries and Harvard Recycling & Waste. Contact dailey_brannin@harvard.edu with questions.
URL:https://sustainable.harvard.edu/event/fixit-clinic-2/
LOCATION:Cabot Science Library\, 1 Oxford St\, Cambridge\, MA\, 02138\, United States
CATEGORIES:Open to Harvard Community
END:VEVENT
BEGIN:VEVENT
DTSTART;TZID=UTC:20251001T120000
DTEND;TZID=UTC:20251001T150000
DTSTAMP:20260423T191525
CREATED:20250902T131056Z
LAST-MODIFIED:20250911T130226Z
UID:10002815-1759320000-1759330800@sustainable.harvard.edu
SUMMARY:Fixit Clinic
DESCRIPTION:Have you been holding onto a broken item in the hopes of repairing it? (Or perhaps found a nearly-working item at a Freecycle?) If so\, come to our Fixit Clinic at the Cabot Science Library! With help\, you’ll disassemble your item\, troubleshoot the issue\, and (hopefully) repair it! Register your broken item ahead of time here. \nDon’t have anything to fix but have some fixing expertise to share? Sign up to be a coach here! \nHosted by Harvard Libraries and Harvard Recycling & Waste. Contact dailey_brannin@harvard.edu with questions.
URL:https://sustainable.harvard.edu/event/fixit-clinic/
LOCATION:Cabot Science Library\, 1 Oxford St\, Cambridge\, MA\, 02138\, United States
CATEGORIES:Open to Harvard Community
END:VEVENT
END:VCALENDAR