BEGIN:VCALENDAR
VERSION:2.0
PRODID:-//Harvard Office for Sustainability - ECPv6.15.14//NONSGML v1.0//EN
CALSCALE:GREGORIAN
METHOD:PUBLISH
X-WR-CALNAME:Harvard Office for Sustainability
X-ORIGINAL-URL:https://sustainable.harvard.edu
X-WR-CALDESC:Events for Harvard Office for Sustainability
REFRESH-INTERVAL;VALUE=DURATION:PT1H
X-Robots-Tag:noindex
X-PUBLISHED-TTL:PT1H
BEGIN:VTIMEZONE
TZID:UTC
BEGIN:STANDARD
TZOFFSETFROM:+0000
TZOFFSETTO:+0000
TZNAME:UTC
DTSTART:20250101T000000
END:STANDARD
END:VTIMEZONE
BEGIN:VEVENT
DTSTART;TZID=UTC:20260422T120000
DTEND;TZID=UTC:20260422T140000
DTSTAMP:20260422T034914
CREATED:20260218T191214Z
LAST-MODIFIED:20260408T163003Z
UID:10003292-1776859200-1776866400@sustainable.harvard.edu
SUMMARY:Earth Day 2026
DESCRIPTION:Join the Harvard Office for Sustainability and Harvard Common Spaces for an Earth Day Festival on Wednesday\, April 22\, 2026 from 12 to 2 pm at the Science Center Plaza. \n\nBring everyday items you no longer need and pick up stuff for free at a Freecycle hosted by Harvard Recycling. No donation is required to shop! Items can be dropped as early as 11:00 am at the Science Center Plaza. Please contact dailey_brannin@harvard.edu if you are planning a large drop-off to coordinate.\nHave electronics that store data to recycle? Harvard University Information Technology will collect them. See electronic waste items HUIT can accept. Please note lithium batteries should be taped and there should be no leaking or oversized batteries. Electronic accessories that do not store data\, like a mouse or keyboard\, will not be accepted.\nCollect your plastic bags and bring them to the plastic film recycling station.\nBring your bike for a complimentary safety check and commute with confidence and sustainability.\nLearn from and connect with Harvard groups tabling at the event.
URL:https://sustainable.harvard.edu/event/earth-day-2026/
LOCATION:The Science Center Plaza\, 1 Oxford Street\, Cambridge\, 02138\, United States
CATEGORIES:Community Event,Open to Harvard Community,Open to the Public
ATTACH;FMTTYPE=image/png:https://sustainable.harvard.edu/wp-content/uploads/2026/02/Earth-Month-2025.png
END:VEVENT
END:VCALENDAR